BEGIN:VCALENDAR
VERSION:2.0
PRODID:-//jEvents 2.0 for Joomla//EN
CALSCALE:GREGORIAN
METHOD:PUBLISH
BEGIN:VEVENT
UID:cb8a35ee128bf3a5db95345cc265fecb
CATEGORIES:Efemérides
CREATED:20161116T133950
SUMMARY:Día Internacional para la Abolición de la Esclavitud.
DESCRIPTION:<blockquote><p><em>En este Día Internacional para la Abolición de la Esclav
 itud, decidámonos a utilizar la Agenda 2030 para el Desarrollo Sostenible c
 omo una guía para acabar con las causas profundas de la esclavitud y libera
 r a todas las personas que viven esclavizadas en el mundo.</em></p><p style
 ="text-align: right;"><em><a class="jcepopup" href="http://www.un.org/es/ev
 ents/slaveryabolitionday/2015/sgmessage.shtml" target="_blank" rel="noopene
 r noreferrer" data-mediabox-caption="Mensaje con ocasión del Día Internacio
 nal para la Abolición de la Esclavitud. 2015" data-mediabox-title="Mensaje 
 2015. Ban Ki-moon">Mensaje</a> del Secretario General de las Naciones Unida
 s, Ban Ki-moon</em><br /><em> Día Internacional para la Abolición de la Esc
 lavitud 2015</em></p></blockquote><p>Con el Día Internacional para la Aboli
 ción de la Esclavitud, que se celebra el 2 de diciembre, se recuerda la fec
 ha en que la Asamblea General aprobó el Convenio para la represión de la tr
 ata de personas y de la explotación de la prostitución ajena (resolución 31
 7(IV) Documento PDF, de 2 de diciembre de 1949).</p><p>El día se centra en 
 la erradicación de las formas contemporáneas de esclavitud, como la trata d
 e personas, la explotación sexual, las peores formas de trabajo infantil, e
 l matrimonio forzado y el reclutamiento forzoso de niños para utilizarlos e
 n conflictos armados.</p><p>La Organización Internacional del Trabajo (OIT)
  calcula que 21 millones de personas en el mundo son víctimas de trabajo fo
 rzoso en la actualidad, lo que genera unos 150.000 millones de dólares anua
 les de ganancias ilícitas en el sector privado.</p><p>La OIT ha adoptado un
  nuevo Protocolo jurídicamente vinculante, con el fin de fortalecer los esf
 uerzos a nivel mundial para eliminar el trabajo forzoso, que se prevé entra
 rá en vigor en noviembre de 2016.</p><hr /><h6 style="text-align: left;"><a
  title="Día Internacional para la Abolición de la Esclavitud. 2 de diciembr
 e" href="http://www.un.org/es/events/slaveryabolitionday/" target="_blank" 
 rel="noopener noreferrer">Leer más</a> en el sitio de las Organización de l
 as Naciones Unidas</h6><h6>Observatorio de Medios del Centro de Saberes Afr
 icanos, Americanos y Caribeños</h6>
DTSTAMP:20260419T191027
DTSTART;TZID=America/Caracas;VALUE=DATE:20191202
DTEND;TZID=America/Caracas;VALUE=DATE:20191203
SEQUENCE:0
TRANSP:OPAQUE
END:VEVENT
END:VCALENDAR